BEGIN:VCALENDAR
VERSION:2.0
PRODID:-//BSV-Kisdorf e.V. - ECPv6.15.17//NONSGML v1.0//EN
CALSCALE:GREGORIAN
METHOD:PUBLISH
X-WR-CALNAME:BSV-Kisdorf e.V.
X-ORIGINAL-URL:https://www.bsv-kisdorf.de
X-WR-CALDESC:Veranstaltungen für BSV-Kisdorf e.V.
REFRESH-INTERVAL;VALUE=DURATION:PT1H
X-Robots-Tag:noindex
X-PUBLISHED-TTL:PT1H
BEGIN:VTIMEZONE
TZID:UTC
BEGIN:STANDARD
TZOFFSETFROM:+0000
TZOFFSETTO:+0000
TZNAME:UTC
DTSTART:20250101T000000
END:STANDARD
END:VTIMEZONE
BEGIN:VEVENT
DTSTART;TZID=UTC:20260421T200000
DTEND;TZID=UTC:20260421T220000
DTSTAMP:20260424T220356
CREATED:20260329T105559Z
LAST-MODIFIED:20260329T105559Z
UID:7543-1776801600-1776808800@www.bsv-kisdorf.de
SUMMARY:Mitgliederversammlung 2026
DESCRIPTION:Weitere Infos: \nhttps://www.bsv-kisdorf.de/wp-content/uploads/2026/03/BSV_Mitgliederversammlung_20260421_Einladung.pdf
URL:https://www.bsv-kisdorf.de/event/mitgliederversammlung-2026
LOCATION:Tanzsaal\, Am Sportplatz 13\, Kisdorf\, Schleswig-Holstein\, 24629\, Germany
END:VEVENT
END:VCALENDAR