BEGIN:VCALENDAR
VERSION:2.0
PRODID:-//BSV-Kisdorf e.V. - ECPv6.15.17//NONSGML v1.0//EN
CALSCALE:GREGORIAN
METHOD:PUBLISH
X-ORIGINAL-URL:https://www.bsv-kisdorf.de
X-WR-CALDESC:Veranstaltungen für BSV-Kisdorf e.V.
REFRESH-INTERVAL;VALUE=DURATION:PT1H
X-Robots-Tag:noindex
X-PUBLISHED-TTL:PT1H
BEGIN:VTIMEZONE
TZID:UTC
BEGIN:STANDARD
TZOFFSETFROM:+0000
TZOFFSETTO:+0000
TZNAME:UTC
DTSTART:20250101T000000
END:STANDARD
END:VTIMEZONE
BEGIN:VEVENT
DTSTART;TZID=UTC:20261228T160000
DTEND;TZID=UTC:20261228T213000
DTSTAMP:20260424T153838
CREATED:20260103T101639Z
LAST-MODIFIED:20260103T101639Z
UID:7269-1798473600-1798493400@www.bsv-kisdorf.de
SUMMARY:"Speck weg"-Turnier 2026
DESCRIPTION:Bitte vormerken! Das „Speck weg“ Turnier 2026 findet am Montag\, den 28.12.2026 ab 16 Uhr statt.
URL:https://www.bsv-kisdorf.de/event/speck-weg-turnier-2026
LOCATION:Mehrzweckhalle Kisdorf\, Am Sportplatz 2d\, Kisdorf\, 24629\, Germany
CATEGORIES:Badminton
ORGANIZER;CN="BSV Kisdorf Badminton":MAILTO:badminton@bsv-kisdorf.de
END:VEVENT
END:VCALENDAR